BEGIN:VCALENDAR
VERSION:2.0
PRODID:-//Förderverein Biologische Kreislaufwirtschaft e.V. - ECPv6.15.20//NONSGML v1.0//EN
CALSCALE:GREGORIAN
METHOD:PUBLISH
X-WR-CALNAME:Förderverein Biologische Kreislaufwirtschaft e.V.
X-ORIGINAL-URL:https://bioklw.de
X-WR-CALDESC:Veranstaltungen für Förderverein Biologische Kreislaufwirtschaft e.V.
REFRESH-INTERVAL;VALUE=DURATION:PT1H
X-Robots-Tag:noindex
X-PUBLISHED-TTL:PT1H
BEGIN:VTIMEZONE
TZID:Europe/Berlin
BEGIN:DAYLIGHT
TZOFFSETFROM:+0100
TZOFFSETTO:+0200
TZNAME:CEST
DTSTART:20250330T010000
END:DAYLIGHT
BEGIN:STANDARD
TZOFFSETFROM:+0200
TZOFFSETTO:+0100
TZNAME:CET
DTSTART:20251026T010000
END:STANDARD
BEGIN:DAYLIGHT
TZOFFSETFROM:+0100
TZOFFSETTO:+0200
TZNAME:CEST
DTSTART:20260329T010000
END:DAYLIGHT
BEGIN:STANDARD
TZOFFSETFROM:+0200
TZOFFSETTO:+0100
TZNAME:CET
DTSTART:20261025T010000
END:STANDARD
BEGIN:DAYLIGHT
TZOFFSETFROM:+0100
TZOFFSETTO:+0200
TZNAME:CEST
DTSTART:20270328T010000
END:DAYLIGHT
BEGIN:STANDARD
TZOFFSETFROM:+0200
TZOFFSETTO:+0100
TZNAME:CET
DTSTART:20271031T010000
END:STANDARD
END:VTIMEZONE
BEGIN:VEVENT
DTSTART;TZID=Europe/Berlin:20260206T180000
DTEND;TZID=Europe/Berlin:20260206T210000
DTSTAMP:20260420T004120
CREATED:20260127T201752Z
LAST-MODIFIED:20260128T164008Z
UID:870-1770400800-1770411600@bioklw.de
SUMMARY:Umgang mit Cannabis
DESCRIPTION:📅 Nachholtermin: Umgang mit Cannabis \nDer Termin wird nachgeholt!\nAm 6. Februar 2026 sprechen wir ab 18:00 Uhr über den Umgang mit Cannabis. \nIm Mittelpunkt stehen sachliche Informationen\, Austausch und Einordnung – offen\, respektvoll und ohne Vorurteile. \n🕔 06.02.2026 | 18:00 Uhr | Biohof Vogel \nBitte Platz reservieren!\nWir freuen uns auf euer Interesse und den gemeinsamen Austausch. \n#UmgangMitCannabis #Informationsveranstaltung #Aufklärung #Austausch #Vereinsarbeit #WissenTeilen
URL:https://bioklw.de/event/umgang-mit-cannabis/
LOCATION:Biohof Vogel\, Dorfstraße 163\, Erlbach-Kirchberg\, Sachsen\, 09385\, Germany
ORGANIZER;CN="F%C3%B6rderverein biologische Kreislaufwirtschaft e.V.":MAILTO:foerderverein@bioklw.de
END:VEVENT
END:VCALENDAR