BEGIN:VCALENDAR
VERSION:2.0
PRODID:-//Förderverein Biologische Kreislaufwirtschaft e.V. - ECPv6.15.20//NONSGML v1.0//EN
CALSCALE:GREGORIAN
METHOD:PUBLISH
X-ORIGINAL-URL:https://bioklw.de
X-WR-CALDESC:Veranstaltungen für Förderverein Biologische Kreislaufwirtschaft e.V.
REFRESH-INTERVAL;VALUE=DURATION:PT1H
X-Robots-Tag:noindex
X-PUBLISHED-TTL:PT1H
BEGIN:VTIMEZONE
TZID:Europe/Berlin
BEGIN:DAYLIGHT
TZOFFSETFROM:+0100
TZOFFSETTO:+0200
TZNAME:CEST
DTSTART:20250330T010000
END:DAYLIGHT
BEGIN:STANDARD
TZOFFSETFROM:+0200
TZOFFSETTO:+0100
TZNAME:CET
DTSTART:20251026T010000
END:STANDARD
BEGIN:DAYLIGHT
TZOFFSETFROM:+0100
TZOFFSETTO:+0200
TZNAME:CEST
DTSTART:20260329T010000
END:DAYLIGHT
BEGIN:STANDARD
TZOFFSETFROM:+0200
TZOFFSETTO:+0100
TZNAME:CET
DTSTART:20261025T010000
END:STANDARD
BEGIN:DAYLIGHT
TZOFFSETFROM:+0100
TZOFFSETTO:+0200
TZNAME:CEST
DTSTART:20270328T010000
END:DAYLIGHT
BEGIN:STANDARD
TZOFFSETFROM:+0200
TZOFFSETTO:+0100
TZNAME:CET
DTSTART:20271031T010000
END:STANDARD
END:VTIMEZONE
BEGIN:VEVENT
DTSTART;TZID=Europe/Berlin:20260322T180000
DTEND;TZID=Europe/Berlin:20260322T210000
DTSTAMP:20260419T225530
CREATED:20260127T144735Z
LAST-MODIFIED:20260201T161650Z
UID:867-1774202400-1774213200@bioklw.de
SUMMARY:Energiekrise? Oder doch ein Denkproblem?
DESCRIPTION:Energiezukunft & Atommülllager in Sachsen – reden wir darüber ⚡️\nWie zukunftsfähig ist die aktuelle Energiepolitik wirklich? Welche Alternativen gibt es – und welche Folgen hätten mögliche Atommülllager für Sachsen? \nDiese Veranstaltung lädt ein zu Information\, Einordnung und offener Diskussion rund um Energiesicherheit\, Verantwortung und realistische Lösungen – jenseits von Ideologie. \n📅 22.03.\, 18 Uhr\n📍 Gasthof Oehme\nEppendorferstraße 3\, 09579 Borstendorf \nAnmeldung unter: 01723759962 \n➡️ Informieren. Nachfragen. Mitreden.
URL:https://bioklw.de/event/energiekrise-oder-doch-ein-denkproblem/
LOCATION:Sachsen
ATTACH;FMTTYPE=image/jpeg:https://bioklw.de/wp-content/uploads/2026/01/2.jpg
END:VEVENT
END:VCALENDAR