BEGIN:VCALENDAR
VERSION:2.0
PRODID:-//Förderverein Biologische Kreislaufwirtschaft e.V. - ECPv6.15.20//NONSGML v1.0//EN
CALSCALE:GREGORIAN
METHOD:PUBLISH
X-ORIGINAL-URL:https://bioklw.de
X-WR-CALDESC:Veranstaltungen für Förderverein Biologische Kreislaufwirtschaft e.V.
REFRESH-INTERVAL;VALUE=DURATION:PT1H
X-Robots-Tag:noindex
X-PUBLISHED-TTL:PT1H
BEGIN:VTIMEZONE
TZID:Europe/Berlin
BEGIN:DAYLIGHT
TZOFFSETFROM:+0100
TZOFFSETTO:+0200
TZNAME:CEST
DTSTART:20250330T010000
END:DAYLIGHT
BEGIN:STANDARD
TZOFFSETFROM:+0200
TZOFFSETTO:+0100
TZNAME:CET
DTSTART:20251026T010000
END:STANDARD
BEGIN:DAYLIGHT
TZOFFSETFROM:+0100
TZOFFSETTO:+0200
TZNAME:CEST
DTSTART:20260329T010000
END:DAYLIGHT
BEGIN:STANDARD
TZOFFSETFROM:+0200
TZOFFSETTO:+0100
TZNAME:CET
DTSTART:20261025T010000
END:STANDARD
BEGIN:DAYLIGHT
TZOFFSETFROM:+0100
TZOFFSETTO:+0200
TZNAME:CEST
DTSTART:20270328T010000
END:DAYLIGHT
BEGIN:STANDARD
TZOFFSETFROM:+0200
TZOFFSETTO:+0100
TZNAME:CET
DTSTART:20271031T010000
END:STANDARD
END:VTIMEZONE
BEGIN:VEVENT
DTSTART;TZID=Europe/Berlin:20260613T090000
DTEND;TZID=Europe/Berlin:20260614T130000
DTSTAMP:20260420T004551
CREATED:20260131T180901Z
LAST-MODIFIED:20260331T182559Z
UID:889-1781341200-1781442000@bioklw.de
SUMMARY:DER WEG ZU MIR
DESCRIPTION:Bewusstsein – Natur – Bewegung \nZweitägige Veranstaltung für Frauen in kleiner Gruppe mit Fokus auf Selbstreflexion\, Bewegung und Austausch. \nTermin\nSamstag\, 13.06.2026 | 09:00 – 17:30 UhrSonntag\, 14.06.2026 | 10:00 – 13:00 Uhr \nOrt\nBiohof VogelDorfstraße 16309385 Lugau (Erzgebirge) \nTeilnehmerzahl\nMaximal 9 TeilnehmerinnenBei ausgebuchter Veranstaltung wird eine Warteliste für einen möglichen Zusatztermin im Herbst geführt. \nKosten 90 €Inklusive Raummiete\, vegetarischem Mittagessen und Wasser\nKursleitung\nDr. Ines Weckert-Nebel &\nAnne-Grit Valentin (ganzheitliche Physiotherapie) \nAnmeldung\nVerbindliche Anmeldung und Platzreservierung über unser Ticketsystem.Ist die Veranstaltung ausgebucht\, ist eine Eintragung auf die Warteliste für einen möglichen Herbsttermin per E-Mail möglich:anne.grit.valentin@gmail.com \nBitte mitbringen\n\nYoga- oder Sitzkissen\, Decke\nWetterfeste Kleidung und Schuhe\, Socken\nPersönliche Dinge zur Selbstfürsorge\n\nNimm dir Zeit – komm zu dir – geh deinen Weg.Wir freuen uns auf dich.
URL:https://bioklw.de/event/der-weg-zu-mir/
LOCATION:Biohof Vogel\, Dorfstraße 163\, Erlbach-Kirchberg\, Sachsen\, 09385\, Germany
ATTACH;FMTTYPE=image/jpeg:https://bioklw.de/wp-content/uploads/2026/01/DER-WEG-ZU-MIR.jpg
ORGANIZER;CN="F%C3%B6rderverein biologische Kreislaufwirtschaft e.V.":MAILTO:foerderverein@bioklw.de
END:VEVENT
END:VCALENDAR