BEGIN:VCALENDAR
VERSION:2.0
PRODID:-//Förderverein Biologische Kreislaufwirtschaft e.V. - ECPv6.15.20//NONSGML v1.0//EN
CALSCALE:GREGORIAN
METHOD:PUBLISH
X-WR-CALNAME:Förderverein Biologische Kreislaufwirtschaft e.V.
X-ORIGINAL-URL:https://bioklw.de
X-WR-CALDESC:Veranstaltungen für Förderverein Biologische Kreislaufwirtschaft e.V.
REFRESH-INTERVAL;VALUE=DURATION:PT1H
X-Robots-Tag:noindex
X-PUBLISHED-TTL:PT1H
BEGIN:VTIMEZONE
TZID:Europe/Berlin
BEGIN:DAYLIGHT
TZOFFSETFROM:+0100
TZOFFSETTO:+0200
TZNAME:CEST
DTSTART:20250330T010000
END:DAYLIGHT
BEGIN:STANDARD
TZOFFSETFROM:+0200
TZOFFSETTO:+0100
TZNAME:CET
DTSTART:20251026T010000
END:STANDARD
BEGIN:DAYLIGHT
TZOFFSETFROM:+0100
TZOFFSETTO:+0200
TZNAME:CEST
DTSTART:20260329T010000
END:DAYLIGHT
BEGIN:STANDARD
TZOFFSETFROM:+0200
TZOFFSETTO:+0100
TZNAME:CET
DTSTART:20261025T010000
END:STANDARD
BEGIN:DAYLIGHT
TZOFFSETFROM:+0100
TZOFFSETTO:+0200
TZNAME:CEST
DTSTART:20270328T010000
END:DAYLIGHT
BEGIN:STANDARD
TZOFFSETFROM:+0200
TZOFFSETTO:+0100
TZNAME:CET
DTSTART:20271031T010000
END:STANDARD
END:VTIMEZONE
BEGIN:VTIMEZONE
TZID:UTC
BEGIN:STANDARD
TZOFFSETFROM:+0000
TZOFFSETTO:+0000
TZNAME:UTC
DTSTART:20240101T000000
END:STANDARD
END:VTIMEZONE
BEGIN:VEVENT
DTSTART;TZID=Europe/Berlin:20260417T180000
DTEND;TZID=Europe/Berlin:20260417T200000
DTSTAMP:20260419T201552
CREATED:20260301T201137Z
LAST-MODIFIED:20260416T175332Z
UID:954-1776448800-1776456000@bioklw.de
SUMMARY:Die unglaubliche Naturapotheke der Bäume
DESCRIPTION:Ein spannender Vortrag mit Marco Wrabetz\n\n\n\n\n\n\n\n\n\n\n\n\n\nWann? Freitag\, 17. April 2026\, 18:00 Uhr\nWo? Biohof Vogel \nBäume sind nicht nur prächtige Riesen der Natur\, sondern auch wahre Schatzkammern für Gesundheit und Wohlbefinden. In diesem faszinierenden Vortrag nimmt Sie Marco Wrabetz mit auf eine Entdeckungsreise durch die Naturapotheke der Bäume. Erfahren Sie\, welche heilenden Kräfte in Rinde\, Blättern und Früchten schlummern und wie Sie diese natürlichen Ressourcen für Ihr eigenes Wohl nutzen können. \nDer Abend bietet nicht nur wertvolles Wissen\, sondern auch die Möglichkeit\, sich mit Gleichgesinnten auszutauschen und die besondere Atmosphäre des Biohofs Vogel zu genießen. \nEintritt auf Spendenbasis\nReservierung erforderlich – begrenzte Plätze! \nBitte melden Sie sich an.
URL:https://bioklw.de/event/die-unglaubliche-naturapotheke-der-baeume/
LOCATION:Biohof Vogel\, Dorfstraße 163\, Erlbach-Kirchberg\, Sachsen\, 09385\, Germany
CATEGORIES:Förderverein
ATTACH;FMTTYPE=image/jpeg:https://bioklw.de/wp-content/uploads/2026/03/Die-unglaubliche-Naturapotheke-der-Baeume-1.jpg
ORGANIZER;CN="F%C3%B6rderverein biologische Kreislaufwirtschaft e.V.":MAILTO:foerderverein@bioklw.de
END:VEVENT
BEGIN:VEVENT
DTSTART;TZID=Europe/Berlin:20260410T180000
DTEND;TZID=Europe/Berlin:20260410T190000
DTSTAMP:20260419T201552
CREATED:20260207T190136Z
LAST-MODIFIED:20260409T061024Z
UID:907-1775844000-1775847600@bioklw.de
SUMMARY:Vortrag: Omega-3 – Nutzen\, Quellen und Mythen
DESCRIPTION:Omega-3-Fettsäuren spielen eine wichtige Rolle für unsere Gesundheit – und trotzdem gibt es viele offene Fragen und widersprüchliche Aussagen. In diesem Vortrag geht es darum\, verständlich und praxisnah einzuordnen\, was Omega-3 wirklich leisten kann. \nIm Mittelpunkt stehen: \n\nder Nutzen von Omega-3-Fettsäuren\,\nihre natürlichen Quellen in der Ernährung\,\nsowie verbreitete Mythen und Missverständnisse rund um Omega-3.\n\nEin besonderer Fokus liegt auf der Bedeutung von Omega-3 für Herz\, Hirn und das allgemeine Wohlbefinden. Dabei werden wissenschaftliche Erkenntnisse verständlich erklärt und alltagstauglich eingeordnet. \nDer Vortrag richtet sich an alle\, die sich fundiert informieren möchten – verständlich und praktisch. \nTermin: Freitag\, 10.04.2026Uhrzeit: 18:00 UhrEintritt auf Spendenbasis\nVortragende: Anne-Grit Valentin
URL:https://bioklw.de/event/vortrag-omega-3-nutzen-quellen-und-mythen/
LOCATION:Biohof Vogel\, Dorfstraße 163\, Erlbach-Kirchberg\, Sachsen\, 09385\, Germany
CATEGORIES:Förderverein
ATTACH;FMTTYPE=image/png:https://bioklw.de/wp-content/uploads/2026/03/Omega3-Nutzen-Quellen-und-Mythen.png
ORGANIZER;CN="F%C3%B6rderverein biologische Kreislaufwirtschaft e.V.":MAILTO:foerderverein@bioklw.de
END:VEVENT
BEGIN:VEVENT
DTSTART;TZID=Europe/Berlin:20260322T180000
DTEND;TZID=Europe/Berlin:20260322T210000
DTSTAMP:20260419T201552
CREATED:20260127T144735Z
LAST-MODIFIED:20260201T161650Z
UID:867-1774202400-1774213200@bioklw.de
SUMMARY:Energiekrise? Oder doch ein Denkproblem?
DESCRIPTION:Energiezukunft & Atommülllager in Sachsen – reden wir darüber ⚡️\nWie zukunftsfähig ist die aktuelle Energiepolitik wirklich? Welche Alternativen gibt es – und welche Folgen hätten mögliche Atommülllager für Sachsen? \nDiese Veranstaltung lädt ein zu Information\, Einordnung und offener Diskussion rund um Energiesicherheit\, Verantwortung und realistische Lösungen – jenseits von Ideologie. \n📅 22.03.\, 18 Uhr\n📍 Gasthof Oehme\nEppendorferstraße 3\, 09579 Borstendorf \nAnmeldung unter: 01723759962 \n➡️ Informieren. Nachfragen. Mitreden.
URL:https://bioklw.de/event/energiekrise-oder-doch-ein-denkproblem/
LOCATION:Sachsen
ATTACH;FMTTYPE=image/jpeg:https://bioklw.de/wp-content/uploads/2026/01/2.jpg
END:VEVENT
BEGIN:VEVENT
DTSTART;TZID=UTC:20260321T180000
DTEND;TZID=UTC:20260321T210000
DTSTAMP:20260419T201552
CREATED:20251122T132338Z
LAST-MODIFIED:20260201T161839Z
UID:123-1774116000-1774126800@bioklw.de
SUMMARY:Energiekrise? Oder doch ein Denkproblem? 🔥
DESCRIPTION:Volker Eyssen zeigt\, wie die Dual-Fluid-Technologie neue Wege für echte Energiesicherheit eröffnen könnte – und warum Themen wie ein mögliches Endlager in Sachsen deutlich differenzierter betrachtet werden müssen\, als es oft geschieht. \n📅 21.03.26\, 18 Uhr\n📍 Biohof Vogel\, Dorfstrasse 163\, 09385 Erlbach-Kirchberg \n➡️ Komm vorbei\, informiere dich unabhängig und diskutiere mit über die Zukunft unserer Energieversorgung! ⚡️💬 \nBitte anmelden\, da nur begrenzte Ticketanzahl!
URL:https://bioklw.de/event/energiekrise-oder-doch-ein-denkproblem-%f0%9f%94%a5/
LOCATION:Biohof Vogel\, Dorfstraße 163\, Erlbach-Kirchberg\, Sachsen\, 09385\, Germany
ATTACH;FMTTYPE=image/jpeg:https://bioklw.de/wp-content/uploads/2026/01/1.jpg
ORGANIZER;CN="F%C3%B6rderverein biologische Kreislaufwirtschaft e.V.":MAILTO:foerderverein@bioklw.de
END:VEVENT
BEGIN:VEVENT
DTSTART;TZID=Europe/Berlin:20260206T180000
DTEND;TZID=Europe/Berlin:20260206T210000
DTSTAMP:20260419T201552
CREATED:20260127T201752Z
LAST-MODIFIED:20260128T164008Z
UID:870-1770400800-1770411600@bioklw.de
SUMMARY:Umgang mit Cannabis
DESCRIPTION:📅 Nachholtermin: Umgang mit Cannabis \nDer Termin wird nachgeholt!\nAm 6. Februar 2026 sprechen wir ab 18:00 Uhr über den Umgang mit Cannabis. \nIm Mittelpunkt stehen sachliche Informationen\, Austausch und Einordnung – offen\, respektvoll und ohne Vorurteile. \n🕔 06.02.2026 | 18:00 Uhr | Biohof Vogel \nBitte Platz reservieren!\nWir freuen uns auf euer Interesse und den gemeinsamen Austausch. \n#UmgangMitCannabis #Informationsveranstaltung #Aufklärung #Austausch #Vereinsarbeit #WissenTeilen
URL:https://bioklw.de/event/umgang-mit-cannabis/
LOCATION:Biohof Vogel\, Dorfstraße 163\, Erlbach-Kirchberg\, Sachsen\, 09385\, Germany
ORGANIZER;CN="F%C3%B6rderverein biologische Kreislaufwirtschaft e.V.":MAILTO:foerderverein@bioklw.de
END:VEVENT
BEGIN:VEVENT
DTSTART;TZID=UTC:20260123T180000
DTEND;TZID=UTC:20260123T200000
DTSTAMP:20260419T201552
CREATED:20251122T130200Z
LAST-MODIFIED:20251123T175415Z
UID:108-1769191200-1769198400@bioklw.de
SUMMARY:Meine Keime und ich
DESCRIPTION:Veranstaltungshinweis \n23. Januar 2025 · 18:00 Uhr\n„Meine Keime und ich“ – Eine neue Betrachtung des Immunsystems\, der Keime und der Genetik \nWie beeinflussen Mikroorganismen unser Immunsystem wirklich? Und was bedeutet es für chronische Erkrankungen\, wenn Keime fehlen statt im Übermaß vorhanden zu sein?\nDieser Vortrag stellt ein faszinierendes\, völlig neues Verständnismodell vor\, in dem chronische Krankheit als Ausdruck einer gestörten Immunsymbiose verstanden wird. Lassen Sie sich inspirieren von einem Blick auf Keime\, Genetik und Immunsystem\, der gängigen Vorstellungen eine neue Perspektive verleiht. \nVortragende:\nFrau Dr. Ines Weckert-Nebel\nFachärztin für Allgemeinmedizin\, Zusatzbezeichnung Naturheilkunde \nVeranstaltungsort:\nBiohof Vogel\nDorfstraße 163\n09385 Erlbach-Kirchberg \nUnkostenbeitrag: 20 € \nWeitere Informationen zur Immunsymbiose finden Sie hier: \nImmunSymbiose
URL:https://bioklw.de/event/meine-keime-und-ich-eine-neue-betrachtung-des-immunsystems-der-keime-und-der-genetik/
LOCATION:Biohof Vogel\, Dorfstraße 163\, Erlbach-Kirchberg\, Sachsen\, 09385\, Germany
ATTACH;FMTTYPE=image/jpeg:https://bioklw.de/wp-content/uploads/2025/11/Meine-Keime-und-ich.jpg
ORGANIZER;CN="F%C3%B6rderverein biologische Kreislaufwirtschaft e.V.":MAILTO:foerderverein@bioklw.de
END:VEVENT
BEGIN:VEVENT
DTSTART;TZID=UTC:20251205T180000
DTEND;TZID=UTC:20251205T230000
DTSTAMP:20260419T201552
CREATED:20251119T155206Z
LAST-MODIFIED:20251122T191131Z
UID:18-1764957600-1764975600@bioklw.de
SUMMARY:Glühweinnacht
DESCRIPTION:🎄✨ Glühweinnacht auf dem Biohof Vogel! ✨🎄 \nAm 05. Dezember 2025 um 18 Uhr laden wir euch herzlich zu unserer Glühweinnacht ein! 🔥\nFreut euch auf duftenden Bio-Glühwein\, kleine Leckereien und eine gemütliche Atmosphäre auf dem Biohof Vogel. 🌿 \n📍 Biohof Vogel – Dorfstraße 163\, 09385 Erlbach-Kirchberg\n🎟 Eintritt ist kostenlos!\nIhr bezahlt nur\, was ihr trinkt oder verzehrt. 🍷🥨 \n⚠️ Eintritt nur nach Anmeldung\, weil wir nur so planen können! \nKommt vorbei\, bringt Freunde mit und genießt mit uns einen stimmungsvollen Adventsabend! 💚 \n#BioKLW #Förderverein #Glühweinnacht #BiohofVogel #Advent #Gemeinschaft #Nachhaltigkeit #BiologischeKreislaufwirtschaft #Glühweinabend
URL:https://bioklw.de/event/gluehweinnacht/
LOCATION:Biohof Vogel\, Dorfstraße 163\, Erlbach-Kirchberg\, Sachsen\, 09385\, Germany
ATTACH;FMTTYPE=image/jpeg:https://bioklw.de/wp-content/uploads/2025/11/FBK-Gluehweinnacht.jpg
ORGANIZER;CN="F%C3%B6rderverein biologische Kreislaufwirtschaft e.V.":MAILTO:foerderverein@bioklw.de
END:VEVENT
END:VCALENDAR