BEGIN:VCALENDAR
VERSION:2.0
PRODID:-//Förderverein Biologische Kreislaufwirtschaft e.V. - ECPv6.15.20//NONSGML v1.0//EN
CALSCALE:GREGORIAN
METHOD:PUBLISH
X-ORIGINAL-URL:https://bioklw.de
X-WR-CALDESC:Veranstaltungen für Förderverein Biologische Kreislaufwirtschaft e.V.
REFRESH-INTERVAL;VALUE=DURATION:PT1H
X-Robots-Tag:noindex
X-PUBLISHED-TTL:PT1H
BEGIN:VTIMEZONE
TZID:UTC
BEGIN:STANDARD
TZOFFSETFROM:+0000
TZOFFSETTO:+0000
TZNAME:UTC
DTSTART:20250101T000000
END:STANDARD
END:VTIMEZONE
BEGIN:VEVENT
DTSTART;TZID=UTC:20260123T180000
DTEND;TZID=UTC:20260123T200000
DTSTAMP:20260420T003235
CREATED:20251122T130200Z
LAST-MODIFIED:20251123T175415Z
UID:108-1769191200-1769198400@bioklw.de
SUMMARY:Meine Keime und ich
DESCRIPTION:Veranstaltungshinweis \n23. Januar 2025 · 18:00 Uhr\n„Meine Keime und ich“ – Eine neue Betrachtung des Immunsystems\, der Keime und der Genetik \nWie beeinflussen Mikroorganismen unser Immunsystem wirklich? Und was bedeutet es für chronische Erkrankungen\, wenn Keime fehlen statt im Übermaß vorhanden zu sein?\nDieser Vortrag stellt ein faszinierendes\, völlig neues Verständnismodell vor\, in dem chronische Krankheit als Ausdruck einer gestörten Immunsymbiose verstanden wird. Lassen Sie sich inspirieren von einem Blick auf Keime\, Genetik und Immunsystem\, der gängigen Vorstellungen eine neue Perspektive verleiht. \nVortragende:\nFrau Dr. Ines Weckert-Nebel\nFachärztin für Allgemeinmedizin\, Zusatzbezeichnung Naturheilkunde \nVeranstaltungsort:\nBiohof Vogel\nDorfstraße 163\n09385 Erlbach-Kirchberg \nUnkostenbeitrag: 20 € \nWeitere Informationen zur Immunsymbiose finden Sie hier: \nImmunSymbiose
URL:https://bioklw.de/event/meine-keime-und-ich-eine-neue-betrachtung-des-immunsystems-der-keime-und-der-genetik/
LOCATION:Biohof Vogel\, Dorfstraße 163\, Erlbach-Kirchberg\, Sachsen\, 09385\, Germany
ATTACH;FMTTYPE=image/jpeg:https://bioklw.de/wp-content/uploads/2025/11/Meine-Keime-und-ich.jpg
ORGANIZER;CN="F%C3%B6rderverein biologische Kreislaufwirtschaft e.V.":MAILTO:foerderverein@bioklw.de
END:VEVENT
END:VCALENDAR